BEGIN:VCALENDAR
VERSION:2.0
PRODID:-//tgpdenver.org//NONSGML kigkonsult.se iCalcreator 2.30.10//
CALSCALE:GREGORIAN
METHOD:PUBLISH
UID:1020cfd2-ebb2-4093-a927-d57f85e0b7ba
X-WR-CALDESC:
X-WR-RELCALID:e58ec03d8f978aca9e4b72774ce87e82
X-WR-TIMEZONE:America/Denver
BEGIN:VTIMEZONE
TZID:America/Denver
BEGIN:STANDARD
TZNAME:MST
DTSTART:20251102T020000
TZOFFSETFROM:-0600
TZOFFSETTO:-0700
RDATE:20261101T020000
RDATE:20271107T020000
END:STANDARD
BEGIN:DAYLIGHT
TZNAME:MDT
DTSTART:20260308T020000
TZOFFSETFROM:-0700
TZOFFSETTO:-0600
RDATE:20270314T020000
END:DAYLIGHT
END:VTIMEZONE
BEGIN:VEVENT
UID:5c080a2d-1761-46f7-908c-137f5d611eea
DTSTAMP:20260423T190013Z
DESCRIPTION:
DTSTART;TZID=America/Denver:20260715T083000
DTEND;TZID=America/Denver:20260715T153000
LOCATION:Wellness Area
SUMMARY:Zip Dentistry
END:VEVENT
END:VCALENDAR
