BEGIN:VCALENDAR
VERSION:2.0
PRODID:-//tgpdenver.org//NONSGML kigkonsult.se iCalcreator 2.30.10//
CALSCALE:GREGORIAN
METHOD:PUBLISH
UID:9423ddf9-ca84-4942-9237-b385ab06aeb3
X-WR-CALDESC:Play with air dry clay and make items like earrings\, magnets\
 , and more! Led by volunteer\, Drew
X-WR-RELCALID:1b44153f1a82a68d1b65d89c13ff0e26
X-WR-TIMEZONE:America/Denver
BEGIN:VTIMEZONE
TZID:America/Denver
BEGIN:STANDARD
TZNAME:MST
DTSTART:20251102T020000
TZOFFSETFROM:-0600
TZOFFSETTO:-0700
RDATE:20261101T020000
RDATE:20271107T020000
END:STANDARD
BEGIN:DAYLIGHT
TZNAME:MDT
DTSTART:20260308T020000
TZOFFSETFROM:-0700
TZOFFSETTO:-0600
RDATE:20270314T020000
END:DAYLIGHT
END:VTIMEZONE
BEGIN:VEVENT
UID:4a65ff6b-790e-4b73-bb1c-1bd456a67de1
DTSTAMP:20260423T205029Z
DESCRIPTION:Play with air dry clay and make items like earrings\, magnets\,
  and more! Led by volunteer\, Drew
DTSTART;TZID=America/Denver:20260814T110000
DTEND;TZID=America/Denver:20260814T120000
LOCATION:3rd Floor Art Room
SUMMARY:Clay Class
END:VEVENT
END:VCALENDAR
