BEGIN:VCALENDAR
VERSION:2.0
PRODID:-//tgpdenver.org//NONSGML kigkonsult.se iCalcreator 2.30.10//
CALSCALE:GREGORIAN
METHOD:PUBLISH
UID:24e41545-07be-470b-84fc-83090bc2fb83
X-WR-CALDESC:
X-WR-RELCALID:e7bdfd1edae795184a5a538c6d070387
X-WR-TIMEZONE:America/Denver
BEGIN:VTIMEZONE
TZID:America/Denver
BEGIN:STANDARD
TZNAME:MST
DTSTART:20261101T020000
TZOFFSETFROM:-0600
TZOFFSETTO:-0700
RDATE:20271107T020000
END:STANDARD
BEGIN:DAYLIGHT
TZNAME:MDT
DTSTART:20260308T020000
TZOFFSETFROM:-0700
TZOFFSETTO:-0600
RDATE:20270314T020000
RDATE:20280312T020000
END:DAYLIGHT
END:VTIMEZONE
BEGIN:VEVENT
UID:07e781f3-b434-4d3d-a130-e9a959d03923
DTSTAMP:20260424T021254Z
DESCRIPTION:
DTSTART;TZID=America/Denver:20261110T090000
DTEND;TZID=America/Denver:20261110T100000
LOCATION:3rd Floor Art Room
SUMMARY:Nail Salon
END:VEVENT
END:VCALENDAR
