BEGIN:VCALENDAR
VERSION:2.0
PRODID:-//tgpdenver.org//NONSGML kigkonsult.se iCalcreator 2.30.10//
CALSCALE:GREGORIAN
METHOD:PUBLISH
UID:319b214c-0515-4fd9-9ae4-85239691f234
X-WR-CALDESC:
X-WR-RELCALID:8302c548cc7c60b3cfa693226af16739
X-WR-TIMEZONE:America/Denver
BEGIN:VTIMEZONE
TZID:America/Denver
BEGIN:STANDARD
TZNAME:MST
DTSTART:20261101T020000
TZOFFSETFROM:-0600
TZOFFSETTO:-0700
RDATE:20271107T020000
END:STANDARD
BEGIN:DAYLIGHT
TZNAME:MDT
DTSTART:20260308T020000
TZOFFSETFROM:-0700
TZOFFSETTO:-0600
RDATE:20270314T020000
RDATE:20280312T020000
END:DAYLIGHT
END:VTIMEZONE
BEGIN:VEVENT
UID:5b005e3b-bc87-4013-a411-9340a6549c37
DTSTAMP:20260424T020620Z
DESCRIPTION:
DTSTART;TZID=America/Denver:20261110T110000
DTEND;TZID=America/Denver:20261110T120000
LOCATION:Board Room
SUMMARY:Native American Talking Circle
END:VEVENT
END:VCALENDAR
