BEGIN:VCALENDAR
VERSION:2.0
PRODID:-//tgpdenver.org//NONSGML kigkonsult.se iCalcreator 2.30.10//
CALSCALE:GREGORIAN
METHOD:PUBLISH
UID:14cec28a-ec8a-4b7b-9a3a-9d2b72cdb8c1
X-WR-CALDESC:Learn practical beginner sewing skills to mend clothing and te
 nts\, embroider\, etc. with only a needle and thread.
X-WR-RELCALID:f301965122d5be8cf9125182213286ac
X-WR-TIMEZONE:America/Denver
BEGIN:VTIMEZONE
TZID:America/Denver
BEGIN:STANDARD
TZNAME:MST
DTSTART:20261101T020000
TZOFFSETFROM:-0600
TZOFFSETTO:-0700
RDATE:20271107T020000
END:STANDARD
BEGIN:DAYLIGHT
TZNAME:MDT
DTSTART:20260308T020000
TZOFFSETFROM:-0700
TZOFFSETTO:-0600
RDATE:20270314T020000
RDATE:20280312T020000
END:DAYLIGHT
END:VTIMEZONE
BEGIN:VEVENT
UID:554b47bb-70a8-44a2-adf6-b27212f8fed8
DTSTAMP:20260424T021053Z
DESCRIPTION:Learn practical beginner sewing skills to mend clothing and ten
 ts\, embroider\, etc. with only a needle and thread.
DTSTART;TZID=America/Denver:20261119T130000
DTEND;TZID=America/Denver:20261119T140000
LOCATION:TGP Art Room
SUMMARY:Hand Sewing Workshop
END:VEVENT
END:VCALENDAR
