BEGIN:VCALENDAR
VERSION:2.0
PRODID:-//tgpdenver.org//NONSGML kigkonsult.se iCalcreator 2.30.10//
CALSCALE:GREGORIAN
METHOD:PUBLISH
UID:181a894d-2dcc-4f90-a46c-0306806144e6
X-WR-CALDESC:Medicated Assisted Treatment outreach from Colorado University
 's Addiction Research and Treatment Services
X-WR-RELCALID:cef8160f92d6c7443d0d33241ae02908
X-WR-TIMEZONE:America/Denver
BEGIN:VTIMEZONE
TZID:America/Denver
BEGIN:STANDARD
TZNAME:MST
DTSTART:20261101T020000
TZOFFSETFROM:-0600
TZOFFSETTO:-0700
RDATE:20271107T020000
END:STANDARD
BEGIN:DAYLIGHT
TZNAME:MDT
DTSTART:20260308T020000
TZOFFSETFROM:-0700
TZOFFSETTO:-0600
RDATE:20270314T020000
RDATE:20280312T020000
END:DAYLIGHT
END:VTIMEZONE
BEGIN:VEVENT
UID:e94e2f48-f552-4584-a82f-bda9b605d3dc
DTSTAMP:20260424T035403Z
DESCRIPTION:Medicated Assisted Treatment outreach from Colorado University'
 s Addiction Research and Treatment Services
DTSTART;TZID=America/Denver:20261215T083000
DTEND;TZID=America/Denver:20261215T093000
LOCATION:Welcome Area
SUMMARY:M.A.T. with CU ARTS
END:VEVENT
END:VCALENDAR
