BEGIN:VCALENDAR
VERSION:2.0
PRODID:-//tgpdenver.org//NONSGML kigkonsult.se iCalcreator 2.30.10//
CALSCALE:GREGORIAN
METHOD:PUBLISH
UID:ac13a87c-8d99-46a1-8db1-7a5efc9d1910
X-WR-CALDESC:Member-led workshop! Use plastic rexlace to make a keychain. D
 esigns and help will be available.
X-WR-RELCALID:097f24dd486fe9c30390db4d23b3865c
X-WR-TIMEZONE:America/Denver
BEGIN:VTIMEZONE
TZID:America/Denver
BEGIN:STANDARD
TZNAME:MST
DTSTART:20261101T020000
TZOFFSETFROM:-0600
TZOFFSETTO:-0700
RDATE:20271107T020000
END:STANDARD
BEGIN:DAYLIGHT
TZNAME:MDT
DTSTART:20260308T020000
TZOFFSETFROM:-0700
TZOFFSETTO:-0600
RDATE:20270314T020000
RDATE:20280312T020000
END:DAYLIGHT
END:VTIMEZONE
BEGIN:VEVENT
UID:22234fe8-0856-48be-b016-a75529725f8c
DTSTAMP:20260424T055339Z
DESCRIPTION:Member-led workshop! Use plastic rexlace to make a keychain. De
 signs and help will be available.
DTSTART;TZID=America/Denver:20270111T100000
DTEND;TZID=America/Denver:20270111T110000
LOCATION:3rd Floor Art Room
SUMMARY:Keychain Workshop
END:VEVENT
END:VCALENDAR
