BEGIN:VCALENDAR
VERSION:2.0
PRODID:-//tgpdenver.org//NONSGML kigkonsult.se iCalcreator 2.30.10//
CALSCALE:GREGORIAN
METHOD:PUBLISH
UID:84bfe594-ac6d-452f-8cb9-c54eb001551a
X-WR-CALDESC:Member-led workshop! Use plastic rexlace to make a keychain. D
 esigns and help will be available.
X-WR-RELCALID:846e1ab2dd5ba09377a595e43cce8592
X-WR-TIMEZONE:America/Denver
BEGIN:VTIMEZONE
TZID:America/Denver
BEGIN:STANDARD
TZNAME:MST
DTSTART:20261101T020000
TZOFFSETFROM:-0600
TZOFFSETTO:-0700
RDATE:20271107T020000
RDATE:20281105T020000
END:STANDARD
BEGIN:DAYLIGHT
TZNAME:MDT
DTSTART:20270314T020000
TZOFFSETFROM:-0700
TZOFFSETTO:-0600
RDATE:20280312T020000
END:DAYLIGHT
END:VTIMEZONE
BEGIN:VEVENT
UID:9d9a62fb-c4cf-47fe-8db6-6876b03d84c1
DTSTAMP:20260424T125636Z
DESCRIPTION:Member-led workshop! Use plastic rexlace to make a keychain. De
 signs and help will be available.
DTSTART;TZID=America/Denver:20270524T100000
DTEND;TZID=America/Denver:20270524T110000
LOCATION:3rd Floor Art Room
SUMMARY:Keychain Workshop
END:VEVENT
END:VCALENDAR
