BEGIN:VCALENDAR
VERSION:2.0
PRODID:-//tgpdenver.org//NONSGML kigkonsult.se iCalcreator 2.30.10//
CALSCALE:GREGORIAN
METHOD:PUBLISH
UID:3e04e17b-887d-4218-bc8c-a90497807764
X-WR-CALDESC:Knit & crochet in community. Led by Sonja\, a TGP member and v
 olunteer.
X-WR-RELCALID:1ebd63f0330cfe3d3f06d672ba16e7c7
X-WR-TIMEZONE:America/Denver
BEGIN:VTIMEZONE
TZID:America/Denver
BEGIN:STANDARD
TZNAME:MST
DTSTART:20261101T020000
TZOFFSETFROM:-0600
TZOFFSETTO:-0700
RDATE:20271107T020000
RDATE:20281105T020000
END:STANDARD
BEGIN:DAYLIGHT
TZNAME:MDT
DTSTART:20270314T020000
TZOFFSETFROM:-0700
TZOFFSETTO:-0600
RDATE:20280312T020000
END:DAYLIGHT
END:VTIMEZONE
BEGIN:VEVENT
UID:30857806-329e-423c-8d75-b28c81462e01
DTSTAMP:20260424T144317Z
DESCRIPTION:Knit & crochet in community. Led by Sonja\, a TGP member and vo
 lunteer.
DTSTART;TZID=America/Denver:20270602T130000
DTEND;TZID=America/Denver:20270602T150000
LOCATION:3rd floor art studio
SUMMARY:Stitch circle
END:VEVENT
END:VCALENDAR
