BEGIN:VCALENDAR
VERSION:2.0
PRODID:-//tgpdenver.org//NONSGML kigkonsult.se iCalcreator 2.30.10//
CALSCALE:GREGORIAN
METHOD:PUBLISH
UID:9c96bcd9-b2c4-4a7c-914a-6c93f549644a
X-WR-CALDESC:Learn practical beginner sewing skills to mend clothing and te
 nts\, embroider\, etc. with only a needle and thread.
X-WR-RELCALID:f5b11fc31421746e01d9f15eb5a69ae1
X-WR-TIMEZONE:America/Denver
BEGIN:VTIMEZONE
TZID:America/Denver
BEGIN:STANDARD
TZNAME:MST
DTSTART:20271107T020000
TZOFFSETFROM:-0600
TZOFFSETTO:-0700
RDATE:20281105T020000
END:STANDARD
BEGIN:DAYLIGHT
TZNAME:MDT
DTSTART:20270314T020000
TZOFFSETFROM:-0700
TZOFFSETTO:-0600
RDATE:20280312T020000
RDATE:20290311T020000
END:DAYLIGHT
END:VTIMEZONE
BEGIN:VEVENT
UID:c7337822-d89d-4adb-87c1-c201d54bf2f1
DTSTAMP:20260424T234827Z
DESCRIPTION:Learn practical beginner sewing skills to mend clothing and ten
 ts\, embroider\, etc. with only a needle and thread.
DTSTART;TZID=America/Denver:20271118T130000
DTEND;TZID=America/Denver:20271118T140000
LOCATION:TGP Art Room
SUMMARY:Hand Sewing Workshop
END:VEVENT
END:VCALENDAR
