BEGIN:VCALENDAR
VERSION:2.0
PRODID:-//tgpdenver.org//NONSGML kigkonsult.se iCalcreator 2.30.10//
CALSCALE:GREGORIAN
METHOD:PUBLISH
UID:56ae001c-2f56-4e1a-918e-59446172a2b2
X-WR-CALDESC:
X-WR-RELCALID:bd9e400d3f609cfccbbbc1d8b1db1238
X-WR-TIMEZONE:America/Denver
BEGIN:VTIMEZONE
TZID:America/Denver
BEGIN:STANDARD
TZNAME:MST
DTSTART:20271107T020000
TZOFFSETFROM:-0600
TZOFFSETTO:-0700
RDATE:20281105T020000
RDATE:20291104T020000
END:STANDARD
BEGIN:DAYLIGHT
TZNAME:MDT
DTSTART:20280312T020000
TZOFFSETFROM:-0700
TZOFFSETTO:-0600
RDATE:20290311T020000
END:DAYLIGHT
END:VTIMEZONE
BEGIN:VEVENT
UID:0e4f1d1d-3b49-4041-a155-7c37f8fc4e40
DTSTAMP:20260425T145306Z
DESCRIPTION:
DTSTART;TZID=America/Denver:20280717T100000
DTEND;TZID=America/Denver:20280717T120000
LOCATION:3rd Floor Art Room
SUMMARY:Hard Times Writing Workshop
END:VEVENT
END:VCALENDAR
