BEGIN:VCALENDAR
VERSION:2.0
PRODID:-//tgpdenver.org//NONSGML kigkonsult.se iCalcreator 2.30.10//
CALSCALE:GREGORIAN
METHOD:PUBLISH
UID:73a2393c-38dd-488f-8235-3463ec0cd4e9
X-WR-CALDESC:Member-led workshop! Use plastic rexlace to make a keychain. D
 esigns and help will be available.
X-WR-RELCALID:dd1d2e2e72569e3ecf79963a49f4ef0a
X-WR-TIMEZONE:America/Denver
BEGIN:VTIMEZONE
TZID:America/Denver
BEGIN:STANDARD
TZNAME:MST
DTSTART:20271107T020000
TZOFFSETFROM:-0600
TZOFFSETTO:-0700
RDATE:20281105T020000
RDATE:20291104T020000
END:STANDARD
BEGIN:DAYLIGHT
TZNAME:MDT
DTSTART:20280312T020000
TZOFFSETFROM:-0700
TZOFFSETTO:-0600
RDATE:20290311T020000
END:DAYLIGHT
END:VTIMEZONE
BEGIN:VEVENT
UID:8cd19107-0d3d-4774-b379-f90734565521
DTSTAMP:20260425T164025Z
DESCRIPTION:Member-led workshop! Use plastic rexlace to make a keychain. De
 signs and help will be available.
DTSTART;TZID=America/Denver:20280828T100000
DTEND;TZID=America/Denver:20280828T110000
LOCATION:3rd Floor Art Room
SUMMARY:Keychain Workshop
END:VEVENT
END:VCALENDAR
