BEGIN:VCALENDAR
VERSION:2.0
PRODID:-//tgpdenver.org//NONSGML kigkonsult.se iCalcreator 2.30.10//
CALSCALE:GREGORIAN
METHOD:PUBLISH
UID:08f2e902-84f1-4442-9c13-b99d8679c721
X-WR-CALDESC:Knit & crochet in community. Led by Sonja\, a TGP member and v
 olunteer.
X-WR-RELCALID:6ad09cf9e441a84728fa45a19ae82b68
X-WR-TIMEZONE:America/Denver
BEGIN:VTIMEZONE
TZID:America/Denver
BEGIN:STANDARD
TZNAME:MST
DTSTART:20271107T020000
TZOFFSETFROM:-0600
TZOFFSETTO:-0700
RDATE:20281105T020000
RDATE:20291104T020000
END:STANDARD
BEGIN:DAYLIGHT
TZNAME:MDT
DTSTART:20280312T020000
TZOFFSETFROM:-0700
TZOFFSETTO:-0600
RDATE:20290311T020000
END:DAYLIGHT
END:VTIMEZONE
BEGIN:VEVENT
UID:a7a4f82a-7a17-4859-b8b6-171c17c6d8fe
DTSTAMP:20260425T182736Z
DESCRIPTION:Knit & crochet in community. Led by Sonja\, a TGP member and vo
 lunteer.
DTSTART;TZID=America/Denver:20280906T130000
DTEND;TZID=America/Denver:20280906T150000
LOCATION:3rd floor art studio
SUMMARY:Stitch circle
END:VEVENT
END:VCALENDAR
