BEGIN:VCALENDAR
VERSION:2.0
PRODID:-//tgpdenver.org//NONSGML kigkonsult.se iCalcreator 2.30.10//
CALSCALE:GREGORIAN
METHOD:PUBLISH
UID:3f4b8764-8881-42d7-a384-f68fc88d40f8
X-WR-CALDESC:
X-WR-RELCALID:05a8c7b5b7bda4c8b34b36e7a5905d4b
X-WR-TIMEZONE:America/Denver
BEGIN:VTIMEZONE
TZID:America/Denver
BEGIN:STANDARD
TZNAME:MST
DTSTART:20271107T020000
TZOFFSETFROM:-0600
TZOFFSETTO:-0700
RDATE:20281105T020000
RDATE:20291104T020000
END:STANDARD
BEGIN:DAYLIGHT
TZNAME:MDT
DTSTART:20280312T020000
TZOFFSETFROM:-0700
TZOFFSETTO:-0600
RDATE:20290311T020000
RDATE:20300310T020000
END:DAYLIGHT
END:VTIMEZONE
BEGIN:VEVENT
UID:4c6b3abf-6dca-4702-aabb-a83cba7960c0
DTSTAMP:20260425T183825Z
DESCRIPTION:
DTSTART;TZID=America/Denver:20280927T093000
DTEND;TZID=America/Denver:20280927T113000
LOCATION:Art Room
SUMMARY:Watercolor
END:VEVENT
END:VCALENDAR
