BEGIN:VCALENDAR
VERSION:2.0
PRODID:-//tgpdenver.org//NONSGML kigkonsult.se iCalcreator 2.30.10//
CALSCALE:GREGORIAN
METHOD:PUBLISH
UID:ead866fd-7faf-4453-964b-5d771ec6296b
X-WR-CALDESC:Member-led workshop! Use plastic rexlace to make a keychain. D
 esigns and help will be available.
X-WR-RELCALID:d40329816f9a6d5100180a06e4b627a5
X-WR-TIMEZONE:America/Denver
BEGIN:VTIMEZONE
TZID:America/Denver
BEGIN:STANDARD
TZNAME:MST
DTSTART:20281105T020000
TZOFFSETFROM:-0600
TZOFFSETTO:-0700
RDATE:20291104T020000
END:STANDARD
BEGIN:DAYLIGHT
TZNAME:MDT
DTSTART:20280312T020000
TZOFFSETFROM:-0700
TZOFFSETTO:-0600
RDATE:20290311T020000
RDATE:20300310T020000
END:DAYLIGHT
END:VTIMEZONE
BEGIN:VEVENT
UID:9fd78356-5ae9-40fd-be41-19f32474ac21
DTSTAMP:20260425T222148Z
DESCRIPTION:Member-led workshop! Use plastic rexlace to make a keychain. De
 signs and help will be available.
DTSTART;TZID=America/Denver:20281127T100000
DTEND;TZID=America/Denver:20281127T110000
LOCATION:3rd Floor Art Room
SUMMARY:Keychain Workshop
END:VEVENT
END:VCALENDAR
