BEGIN:VCALENDAR
VERSION:2.0
PRODID:-//tgpdenver.org//NONSGML kigkonsult.se iCalcreator 2.30.10//
CALSCALE:GREGORIAN
METHOD:PUBLISH
UID:6f577648-d254-4a48-bc67-39813a2a3692
X-WR-CALDESC:Support with any insurance need or question. Visit the table r
 ight outside of the Wellness Area. Offers a range of services\, like expla
 ining different health insurance options\, applying for cost-saving progra
 ms\, and coordination of current benefits.
X-WR-RELCALID:eb82e17002f99105003a598a9073eada
X-WR-TIMEZONE:America/Denver
BEGIN:VTIMEZONE
TZID:America/Denver
BEGIN:STANDARD
TZNAME:MST
DTSTART:20281105T020000
TZOFFSETFROM:-0600
TZOFFSETTO:-0700
RDATE:20291104T020000
END:STANDARD
BEGIN:DAYLIGHT
TZNAME:MDT
DTSTART:20280312T020000
TZOFFSETFROM:-0700
TZOFFSETTO:-0600
RDATE:20290311T020000
RDATE:20300310T020000
END:DAYLIGHT
END:VTIMEZONE
BEGIN:VEVENT
UID:a0653703-971e-4af7-abfd-f3abab92cdf3
DTSTAMP:20260426T020010Z
DESCRIPTION:Support with any insurance need or question. Visit the table ri
 ght outside of the Wellness Area. Offers a range of services\, like explai
 ning different health insurance options\, applying for cost-saving program
 s\, and coordination of current benefits.
DTSTART;TZID=America/Denver:20290124T100000
DTEND;TZID=America/Denver:20290124T120000
LOCATION:Welcome Area\, 1st floor
SUMMARY:Community Insurance Options
END:VEVENT
END:VCALENDAR
