BEGIN:VCALENDAR
VERSION:2.0
PRODID:-//tgpdenver.org//NONSGML kigkonsult.se iCalcreator 2.30.10//
CALSCALE:GREGORIAN
METHOD:PUBLISH
UID:3f24c7a8-872a-4b89-9240-a83150868219
X-WR-CALDESC:
X-WR-RELCALID:452fbad6156b977d63a7761dc68cbe55
X-WR-TIMEZONE:America/Denver
BEGIN:VTIMEZONE
TZID:America/Denver
BEGIN:STANDARD
TZNAME:MST
DTSTART:20251102T020000
TZOFFSETFROM:-0600
TZOFFSETTO:-0700
RDATE:20261101T020000
END:STANDARD
BEGIN:DAYLIGHT
TZNAME:MDT
DTSTART:20250309T020000
TZOFFSETFROM:-0700
TZOFFSETTO:-0600
RDATE:20260308T020000
RDATE:20270314T020000
END:DAYLIGHT
END:VTIMEZONE
BEGIN:VEVENT
UID:2be1e12d-d9c8-416e-a2a6-926c1b30a275
DTSTAMP:20260422T104215Z
DESCRIPTION:
DTSTART;TZID=America/Denver:20260302T100000
DTEND;TZID=America/Denver:20260302T120000
LOCATION:3rd Floor Art Room
SUMMARY:Hard Times Writing Workshop
END:VEVENT
END:VCALENDAR
