BEGIN:VCALENDAR
VERSION:2.0
PRODID:-//tgpdenver.org//NONSGML kigkonsult.se iCalcreator 2.30.10//
CALSCALE:GREGORIAN
METHOD:PUBLISH
UID:21935f3a-1060-4492-880e-b3428ee0f45c
X-WR-CALDESC:Learn about housing- focused case management at TGP and housin
 g-related resources in the community. If there are open spaces available\,
  eligible members can sign up for our Case Manager's caseload. *NOTE: We d
 o not have housing vouchers.
X-WR-RELCALID:c8f7ae30923b677f595de7281fe1473b
X-WR-TIMEZONE:America/Denver
BEGIN:VTIMEZONE
TZID:America/Denver
BEGIN:STANDARD
TZNAME:MST
DTSTART:20251102T020000
TZOFFSETFROM:-0600
TZOFFSETTO:-0700
RDATE:20261101T020000
END:STANDARD
BEGIN:DAYLIGHT
TZNAME:MDT
DTSTART:20260308T020000
TZOFFSETFROM:-0700
TZOFFSETTO:-0600
RDATE:20270314T020000
END:DAYLIGHT
END:VTIMEZONE
BEGIN:VEVENT
UID:2b3fd883-d8e9-4fda-a0b8-d54da9fe9639
DTSTAMP:20260422T104549Z
DESCRIPTION:Learn about housing- focused case management at TGP and housing
 -related resources in the community. If there are open spaces available\, 
 eligible members can sign up for our Case Manager's caseload. *NOTE: We do
  not have housing vouchers.
DTSTART;TZID=America/Denver:20260318T100000
DTEND;TZID=America/Denver:20260318T110000
LOCATION:2nd floor open area
SUMMARY:Info Session: housing-focused case management
END:VEVENT
END:VCALENDAR
