BEGIN:VCALENDAR
VERSION:2.0
PRODID:-//tgpdenver.org//NONSGML kigkonsult.se iCalcreator 2.30.10//
CALSCALE:GREGORIAN
METHOD:PUBLISH
UID:f8058626-55ac-4bd8-b33b-e4baff74afc1
X-WR-CALDESC:Meet with writers from the University of Denver Writing Progra
 m for help with any project: letters\, e-mails\, fiction\, memoirs\, poetr
 y\, cover letters\, children's stories\, essays\, and more...
X-WR-RELCALID:7ecf4720eee20b029cc6781ee13fc946
X-WR-TIMEZONE:America/Denver
BEGIN:VTIMEZONE
TZID:America/Denver
BEGIN:STANDARD
TZNAME:MST
DTSTART:20251102T020000
TZOFFSETFROM:-0600
TZOFFSETTO:-0700
RDATE:20261101T020000
END:STANDARD
BEGIN:DAYLIGHT
TZNAME:MDT
DTSTART:20260308T020000
TZOFFSETFROM:-0700
TZOFFSETTO:-0600
RDATE:20270314T020000
END:DAYLIGHT
END:VTIMEZONE
BEGIN:VEVENT
UID:727654d4-4cbd-418e-8bc9-6a748b39de6b
DTSTAMP:20260422T103857Z
DESCRIPTION:Meet with writers from the University of Denver Writing Program
  for help with any project: letters\, e-mails\, fiction\, memoirs\, poetry
 \, cover letters\, children's stories\, essays\, and more...
DTSTART;TZID=America/Denver:20260331T100000
DTEND;TZID=America/Denver:20260331T113000
LOCATION:Art Room
SUMMARY:Drop-in Writing
END:VEVENT
END:VCALENDAR
