BEGIN:VCALENDAR
VERSION:2.0
PRODID:-//tgpdenver.org//NONSGML kigkonsult.se iCalcreator 2.30.10//
CALSCALE:GREGORIAN
METHOD:PUBLISH
UID:dde12eaa-9063-4629-93b3-ede0e5e757e9
X-WR-CALDESC:Group for all stages of substance use and recovery. Hosted by 
 Young People in Recovery (all ages)
X-WR-RELCALID:e3a87dc886fe1200d207c6ab79eddc89
X-WR-TIMEZONE:America/Denver
BEGIN:VTIMEZONE
TZID:America/Denver
BEGIN:STANDARD
TZNAME:MST
DTSTART:20251102T020000
TZOFFSETFROM:-0600
TZOFFSETTO:-0700
RDATE:20261101T020000
END:STANDARD
BEGIN:DAYLIGHT
TZNAME:MDT
DTSTART:20260308T020000
TZOFFSETFROM:-0700
TZOFFSETTO:-0600
RDATE:20270314T020000
END:DAYLIGHT
END:VTIMEZONE
BEGIN:VEVENT
UID:39085a41-7ea2-4333-8f56-160fe7c0cc3b
DTSTAMP:20260422T085647Z
DESCRIPTION:Group for all stages of substance use and recovery. Hosted by Y
 oung People in Recovery (all ages)
DTSTART;TZID=America/Denver:20260408T104500
DTEND;TZID=America/Denver:20260408T114500
LOCATION:board room
SUMMARY:YPR All Recovery Meeting
END:VEVENT
END:VCALENDAR
