BEGIN:VCALENDAR
VERSION:2.0
PRODID:-//tgpdenver.org//NONSGML kigkonsult.se iCalcreator 2.30.10//
CALSCALE:GREGORIAN
METHOD:PUBLISH
UID:d3ca0aad-8490-4ea2-a044-0e6b8a84e78c
X-WR-CALDESC:
X-WR-RELCALID:df582dad2759f2e74d4dc8d01fc7d25e
X-WR-TIMEZONE:America/Denver
BEGIN:VTIMEZONE
TZID:America/Denver
BEGIN:STANDARD
TZNAME:MST
DTSTART:20251102T020000
TZOFFSETFROM:-0600
TZOFFSETTO:-0700
RDATE:20261101T020000
END:STANDARD
BEGIN:DAYLIGHT
TZNAME:MDT
DTSTART:20260308T020000
TZOFFSETFROM:-0700
TZOFFSETTO:-0600
RDATE:20270314T020000
END:DAYLIGHT
END:VTIMEZONE
BEGIN:VEVENT
UID:ca093bf2-2d99-4fab-8e1a-030b7796d5b0
DTSTAMP:20260422T104318Z
DESCRIPTION:
DTSTART;TZID=America/Denver:20260506T093000
DTEND;TZID=America/Denver:20260506T113000
LOCATION:Art Room
SUMMARY:Watercolor
END:VEVENT
END:VCALENDAR
