BEGIN:VCALENDAR
VERSION:2.0
PRODID:-//tgpdenver.org//NONSGML kigkonsult.se iCalcreator 2.30.10//
CALSCALE:GREGORIAN
METHOD:PUBLISH
UID:a4a1acd5-fa86-4e6b-ae46-41c0d9fa539d
X-WR-CALDESC:Knit & crochet in community. Led by Sonja\, a TGP member and v
 olunteer.
X-WR-RELCALID:963a8ff68ac281caa495e875a04911a4
X-WR-TIMEZONE:America/Denver
BEGIN:VTIMEZONE
TZID:America/Denver
BEGIN:STANDARD
TZNAME:MST
DTSTART:20251102T020000
TZOFFSETFROM:-0600
TZOFFSETTO:-0700
RDATE:20261101T020000
RDATE:20271107T020000
END:STANDARD
BEGIN:DAYLIGHT
TZNAME:MDT
DTSTART:20260308T020000
TZOFFSETFROM:-0700
TZOFFSETTO:-0600
RDATE:20270314T020000
END:DAYLIGHT
END:VTIMEZONE
BEGIN:VEVENT
UID:ea86ea54-0673-4e52-9b0b-d756a44ca473
DTSTAMP:20260422T104236Z
DESCRIPTION:Knit & crochet in community. Led by Sonja\, a TGP member and vo
 lunteer.
DTSTART;TZID=America/Denver:20260520T130000
DTEND;TZID=America/Denver:20260520T150000
LOCATION:3rd floor art studio
SUMMARY:Stitch circle
END:VEVENT
END:VCALENDAR
