BEGIN:VCALENDAR
VERSION:2.0
PRODID:-//tgpdenver.org//NONSGML kigkonsult.se iCalcreator 2.30.10//
CALSCALE:GREGORIAN
METHOD:PUBLISH
UID:40072082-92a1-47fa-82cc-93f6937f37ee
X-WR-CALDESC:
X-WR-RELCALID:9d122c49a2bb10760289f295f81796e6
X-WR-TIMEZONE:America/Denver
BEGIN:VTIMEZONE
TZID:America/Denver
BEGIN:STANDARD
TZNAME:MST
DTSTART:20251102T020000
TZOFFSETFROM:-0600
TZOFFSETTO:-0700
RDATE:20261101T020000
RDATE:20271107T020000
END:STANDARD
BEGIN:DAYLIGHT
TZNAME:MDT
DTSTART:20260308T020000
TZOFFSETFROM:-0700
TZOFFSETTO:-0600
RDATE:20270314T020000
END:DAYLIGHT
END:VTIMEZONE
BEGIN:VEVENT
UID:486f947c-0f86-420d-9928-83d4b1640209
DTSTAMP:20260422T121317Z
DESCRIPTION:
DTSTART;TZID=America/Denver:20260609T110000
DTEND;TZID=America/Denver:20260609T120000
LOCATION:Board Room
SUMMARY:Native American Talking Circle
END:VEVENT
END:VCALENDAR
