BEGIN:VCALENDAR
VERSION:2.0
PRODID:-//tgpdenver.org//NONSGML kigkonsult.se iCalcreator 2.30.10//
CALSCALE:GREGORIAN
METHOD:PUBLISH
UID:eefbd53a-b6a3-4db9-8986-70f69fb229c7
X-WR-CALDESC:
X-WR-RELCALID:11630ed5475f821e2f0291867b346771
X-WR-TIMEZONE:America/Denver
BEGIN:VTIMEZONE
TZID:America/Denver
BEGIN:STANDARD
TZNAME:MST
DTSTART:20251102T020000
TZOFFSETFROM:-0600
TZOFFSETTO:-0700
RDATE:20261101T020000
RDATE:20271107T020000
END:STANDARD
BEGIN:DAYLIGHT
TZNAME:MDT
DTSTART:20260308T020000
TZOFFSETFROM:-0700
TZOFFSETTO:-0600
RDATE:20270314T020000
END:DAYLIGHT
END:VTIMEZONE
BEGIN:VEVENT
UID:47f0ae4f-a964-43a5-8477-0699348526ad
DTSTAMP:20260422T121317Z
DESCRIPTION:
DTSTART;TZID=America/Denver:20260617T083000
DTEND;TZID=America/Denver:20260617T153000
LOCATION:Wellness Area
SUMMARY:Zip Dentistry
END:VEVENT
END:VCALENDAR
