BEGIN:VCALENDAR
VERSION:2.0
PRODID:-//tgpdenver.org//NONSGML kigkonsult.se iCalcreator 2.30.10//
CALSCALE:GREGORIAN
METHOD:PUBLISH
UID:9985aa84-e7b3-4877-92ef-64e648101d51
X-WR-CALDESC:Play with air dry clay and make items like earrings\, magnets\
 , and more! Led by volunteer\, Drew
X-WR-RELCALID:d850839108de7e85406fe18c863143bd
X-WR-TIMEZONE:America/Denver
BEGIN:VTIMEZONE
TZID:America/Denver
BEGIN:STANDARD
TZNAME:MST
DTSTART:20251102T020000
TZOFFSETFROM:-0600
TZOFFSETTO:-0700
RDATE:20261101T020000
RDATE:20271107T020000
END:STANDARD
BEGIN:DAYLIGHT
TZNAME:MDT
DTSTART:20260308T020000
TZOFFSETFROM:-0700
TZOFFSETTO:-0600
RDATE:20270314T020000
END:DAYLIGHT
END:VTIMEZONE
BEGIN:VEVENT
UID:13d226c7-694c-4c1e-b4f8-f8c5ad21a365
DTSTAMP:20260422T121612Z
DESCRIPTION:Play with air dry clay and make items like earrings\, magnets\,
  and more! Led by volunteer\, Drew
DTSTART;TZID=America/Denver:20260619T110000
DTEND;TZID=America/Denver:20260619T120000
LOCATION:3rd Floor Art Room
SUMMARY:Clay Class
END:VEVENT
END:VCALENDAR
