BEGIN:VCALENDAR
VERSION:2.0
PRODID:-//tgpdenver.org//NONSGML kigkonsult.se iCalcreator 2.30.10//
CALSCALE:GREGORIAN
METHOD:PUBLISH
UID:38f70b6a-9676-4926-a27b-f4e0e05cb43f
X-WR-CALDESC:
X-WR-RELCALID:5f0bcc103aa2b921f2ea3352ce6c84c2
X-WR-TIMEZONE:America/Denver
BEGIN:VTIMEZONE
TZID:America/Denver
BEGIN:STANDARD
TZNAME:MST
DTSTART:20251102T020000
TZOFFSETFROM:-0600
TZOFFSETTO:-0700
RDATE:20261101T020000
RDATE:20271107T020000
END:STANDARD
BEGIN:DAYLIGHT
TZNAME:MDT
DTSTART:20260308T020000
TZOFFSETFROM:-0700
TZOFFSETTO:-0600
RDATE:20270314T020000
END:DAYLIGHT
END:VTIMEZONE
BEGIN:VEVENT
UID:4b22a215-96e4-46b2-8fae-53612a5e4544
DTSTAMP:20260422T141037Z
DESCRIPTION:
DTSTART;TZID=America/Denver:20260708T093000
DTEND;TZID=America/Denver:20260708T113000
LOCATION:Art Room
SUMMARY:Watercolor
END:VEVENT
END:VCALENDAR
