BEGIN:VCALENDAR
VERSION:2.0
PRODID:-//tgpdenver.org//NONSGML kigkonsult.se iCalcreator 2.30.10//
CALSCALE:GREGORIAN
METHOD:PUBLISH
UID:59418380-6ab4-4528-bbf6-449127d8392f
X-WR-CALDESC:Learn practical beginner sewing skills to mend clothing and te
 nts\, embroider\, etc. with only a needle and thread.
X-WR-RELCALID:d7b88784512991086c1a8cf9e0c85747
X-WR-TIMEZONE:America/Denver
BEGIN:VTIMEZONE
TZID:America/Denver
BEGIN:STANDARD
TZNAME:MST
DTSTART:20251102T020000
TZOFFSETFROM:-0600
TZOFFSETTO:-0700
RDATE:20261101T020000
RDATE:20271107T020000
END:STANDARD
BEGIN:DAYLIGHT
TZNAME:MDT
DTSTART:20260308T020000
TZOFFSETFROM:-0700
TZOFFSETTO:-0600
RDATE:20270314T020000
END:DAYLIGHT
END:VTIMEZONE
BEGIN:VEVENT
UID:d3f0116b-4518-4169-804c-dace439f9f62
DTSTAMP:20260422T135753Z
DESCRIPTION:Learn practical beginner sewing skills to mend clothing and ten
 ts\, embroider\, etc. with only a needle and thread.
DTSTART;TZID=America/Denver:20260716T130000
DTEND;TZID=America/Denver:20260716T140000
LOCATION:TGP Art Room
SUMMARY:Hand Sewing Workshop
END:VEVENT
END:VCALENDAR
