BEGIN:VCALENDAR
VERSION:2.0
PRODID:-//tgpdenver.org//NONSGML kigkonsult.se iCalcreator 2.30.10//
CALSCALE:GREGORIAN
METHOD:PUBLISH
UID:b11fe6a2-36b5-4e89-bc73-b9084128e2b9
X-WR-CALDESC:Medicated Assisted Treatment outreach from Colorado University
 's Addiction Research and Treatment Services
X-WR-RELCALID:0a50706557cd39c133a66d336eac0acd
X-WR-TIMEZONE:America/Denver
BEGIN:VTIMEZONE
TZID:America/Denver
BEGIN:STANDARD
TZNAME:MST
DTSTART:20251102T020000
TZOFFSETFROM:-0600
TZOFFSETTO:-0700
RDATE:20261101T020000
RDATE:20271107T020000
END:STANDARD
BEGIN:DAYLIGHT
TZNAME:MDT
DTSTART:20260308T020000
TZOFFSETFROM:-0700
TZOFFSETTO:-0600
RDATE:20270314T020000
END:DAYLIGHT
END:VTIMEZONE
BEGIN:VEVENT
UID:f9b9a75c-8d81-4c74-9687-013db51bbe8f
DTSTAMP:20260422T160016Z
DESCRIPTION:Medicated Assisted Treatment outreach from Colorado University'
 s Addiction Research and Treatment Services
DTSTART;TZID=America/Denver:20260818T083000
DTEND;TZID=America/Denver:20260818T093000
LOCATION:Welcome Area
SUMMARY:M.A.T. with CU ARTS
END:VEVENT
END:VCALENDAR
