BEGIN:VCALENDAR
VERSION:2.0
PRODID:-//tgpdenver.org//NONSGML kigkonsult.se iCalcreator 2.30.10//
CALSCALE:GREGORIAN
METHOD:PUBLISH
UID:93756d68-fc63-4898-9e22-4639484ed9c4
X-WR-CALDESC:
X-WR-RELCALID:01ac1fc590e21775c76e0774ec50a9bc
X-WR-TIMEZONE:America/Denver
BEGIN:VTIMEZONE
TZID:America/Denver
BEGIN:STANDARD
TZNAME:MST
DTSTART:20251102T020000
TZOFFSETFROM:-0600
TZOFFSETTO:-0700
RDATE:20261101T020000
RDATE:20271107T020000
END:STANDARD
BEGIN:DAYLIGHT
TZNAME:MDT
DTSTART:20260308T020000
TZOFFSETFROM:-0700
TZOFFSETTO:-0600
RDATE:20270314T020000
END:DAYLIGHT
END:VTIMEZONE
BEGIN:VEVENT
UID:5b5ae1f8-48d6-4f15-8867-558110b7b853
DTSTAMP:20260422T160635Z
DESCRIPTION:
DTSTART;TZID=America/Denver:20260825T090000
DTEND;TZID=America/Denver:20260825T100000
LOCATION:3rd Floor Art Room
SUMMARY:Nail Salon
END:VEVENT
END:VCALENDAR
