BEGIN:VCALENDAR
VERSION:2.0
PRODID:-//tgpdenver.org//NONSGML kigkonsult.se iCalcreator 2.30.10//
CALSCALE:GREGORIAN
METHOD:PUBLISH
UID:940b84c3-17c6-4cf1-8fb0-db902dca5945
X-WR-CALDESC:Meet with writers from the University of Denver Writing Progra
 m for help with any project: letters\, e-mails\, fiction\, memoirs\, poetr
 y\, cover letters\, children's stories\, essays\, and more...
X-WR-RELCALID:0ef65564964e56b2b5b3fec21eebdd18
X-WR-TIMEZONE:America/Denver
BEGIN:VTIMEZONE
TZID:America/Denver
BEGIN:STANDARD
TZNAME:MST
DTSTART:20251102T020000
TZOFFSETFROM:-0600
TZOFFSETTO:-0700
RDATE:20261101T020000
RDATE:20271107T020000
END:STANDARD
BEGIN:DAYLIGHT
TZNAME:MDT
DTSTART:20260308T020000
TZOFFSETFROM:-0700
TZOFFSETTO:-0600
RDATE:20270314T020000
END:DAYLIGHT
END:VTIMEZONE
BEGIN:VEVENT
UID:5eadb47f-3d38-4b3a-9c42-0d49fd830c63
DTSTAMP:20260422T160225Z
DESCRIPTION:Meet with writers from the University of Denver Writing Program
  for help with any project: letters\, e-mails\, fiction\, memoirs\, poetry
 \, cover letters\, children's stories\, essays\, and more...
DTSTART;TZID=America/Denver:20260825T100000
DTEND;TZID=America/Denver:20260825T113000
LOCATION:Art Room
SUMMARY:Drop-in Writing
END:VEVENT
END:VCALENDAR
