BEGIN:VCALENDAR
VERSION:2.0
PRODID:-//tgpdenver.org//NONSGML kigkonsult.se iCalcreator 2.30.10//
CALSCALE:GREGORIAN
METHOD:PUBLISH
UID:2eb752ca-c52a-41af-8b16-5c7ae9f55048
X-WR-CALDESC:
X-WR-RELCALID:05e28ee90bf6110eaf7eb882a10865c7
X-WR-TIMEZONE:America/Denver
BEGIN:VTIMEZONE
TZID:America/Denver
BEGIN:STANDARD
TZNAME:MST
DTSTART:20251102T020000
TZOFFSETFROM:-0600
TZOFFSETTO:-0700
RDATE:20261101T020000
RDATE:20271107T020000
END:STANDARD
BEGIN:DAYLIGHT
TZNAME:MDT
DTSTART:20260308T020000
TZOFFSETFROM:-0700
TZOFFSETTO:-0600
RDATE:20270314T020000
END:DAYLIGHT
END:VTIMEZONE
BEGIN:VEVENT
UID:27d5b9a4-68ee-4f47-a641-332bb297e9dd
DTSTAMP:20260422T175133Z
DESCRIPTION:
DTSTART;TZID=America/Denver:20260904T100000
DTEND;TZID=America/Denver:20260904T130000
LOCATION:Art Studio
SUMMARY:STI/HIV Testing
END:VEVENT
END:VCALENDAR
