BEGIN:VCALENDAR
VERSION:2.0
PRODID:-//tgpdenver.org//NONSGML kigkonsult.se iCalcreator 2.30.10//
CALSCALE:GREGORIAN
METHOD:PUBLISH
UID:42a3fe6e-bdd3-48bc-9883-ed8112c5290b
X-WR-CALDESC:
X-WR-RELCALID:816bc2ddd908eed5645a355c365d6f47
X-WR-TIMEZONE:America/Denver
BEGIN:VTIMEZONE
TZID:America/Denver
BEGIN:STANDARD
TZNAME:MST
DTSTART:20251102T020000
TZOFFSETFROM:-0600
TZOFFSETTO:-0700
RDATE:20261101T020000
RDATE:20271107T020000
END:STANDARD
BEGIN:DAYLIGHT
TZNAME:MDT
DTSTART:20260308T020000
TZOFFSETFROM:-0700
TZOFFSETTO:-0600
RDATE:20270314T020000
RDATE:20280312T020000
END:DAYLIGHT
END:VTIMEZONE
BEGIN:VEVENT
UID:5d775070-70b6-44ed-9144-ef9ea6102160
DTSTAMP:20260422T194543Z
DESCRIPTION:
DTSTART;TZID=America/Denver:20261027T090000
DTEND;TZID=America/Denver:20261027T100000
LOCATION:3rd Floor Art Room
SUMMARY:Nail Salon
END:VEVENT
END:VCALENDAR
