BEGIN:VCALENDAR
VERSION:2.0
PRODID:-//tgpdenver.org//NONSGML kigkonsult.se iCalcreator 2.30.10//
CALSCALE:GREGORIAN
METHOD:PUBLISH
UID:28a7147d-af58-4d49-b57b-7bbf625f8cdc
X-WR-CALDESC:Meet with writers from the University of Denver Writing Progra
 m for help with any project: letters\, e-mails\, fiction\, memoirs\, poetr
 y\, cover letters\, children's stories\, essays\, and more...
X-WR-RELCALID:2d5e469f8700a4f79c8cae7b9d004514
X-WR-TIMEZONE:America/Denver
BEGIN:VTIMEZONE
TZID:America/Denver
BEGIN:STANDARD
TZNAME:MST
DTSTART:20261101T020000
TZOFFSETFROM:-0600
TZOFFSETTO:-0700
RDATE:20271107T020000
END:STANDARD
BEGIN:DAYLIGHT
TZNAME:MDT
DTSTART:20260308T020000
TZOFFSETFROM:-0700
TZOFFSETTO:-0600
RDATE:20270314T020000
RDATE:20280312T020000
END:DAYLIGHT
END:VTIMEZONE
BEGIN:VEVENT
UID:bc950aa8-883d-4273-942a-ebec19910762
DTSTAMP:20260422T232530Z
DESCRIPTION:Meet with writers from the University of Denver Writing Program
  for help with any project: letters\, e-mails\, fiction\, memoirs\, poetry
 \, cover letters\, children's stories\, essays\, and more...
DTSTART;TZID=America/Denver:20261208T100000
DTEND;TZID=America/Denver:20261208T113000
LOCATION:Art Room
SUMMARY:Drop-in Writing
END:VEVENT
END:VCALENDAR
