BEGIN:VCALENDAR
VERSION:2.0
PRODID:-//tgpdenver.org//NONSGML kigkonsult.se iCalcreator 2.30.10//
CALSCALE:GREGORIAN
METHOD:PUBLISH
UID:8aa0ead4-e531-405b-b038-e23f687ec5db
X-WR-CALDESC:Learn about and sign-up for support with intimate Partner Viol
 ence\, mental health\, and substance use services with Servicios de la Raz
 a.
X-WR-RELCALID:8416dc7a4b82dae77e50594037fbbf5d
X-WR-TIMEZONE:America/Denver
BEGIN:VTIMEZONE
TZID:America/Denver
BEGIN:STANDARD
TZNAME:MST
DTSTART:20261101T020000
TZOFFSETFROM:-0600
TZOFFSETTO:-0700
RDATE:20271107T020000
END:STANDARD
BEGIN:DAYLIGHT
TZNAME:MDT
DTSTART:20260308T020000
TZOFFSETFROM:-0700
TZOFFSETTO:-0600
RDATE:20270314T020000
RDATE:20280312T020000
END:DAYLIGHT
END:VTIMEZONE
BEGIN:VEVENT
UID:ad9584e8-bb73-42a1-abb6-4ee7dbb25530
DTSTAMP:20260422T233238Z
DESCRIPTION:Learn about and sign-up for support with intimate Partner Viole
 nce\, mental health\, and substance use services with Servicios de la Raza
 .
DTSTART;TZID=America/Denver:20261217T130000
DTEND;TZID=America/Denver:20261217T140000
LOCATION:
SUMMARY:VISTAS outreach and intake
END:VEVENT
END:VCALENDAR
