BEGIN:VCALENDAR
VERSION:2.0
PRODID:-//tgpdenver.org//NONSGML kigkonsult.se iCalcreator 2.30.10//
CALSCALE:GREGORIAN
METHOD:PUBLISH
UID:24b3819c-796b-482d-b8fe-92eb90ff0101
X-WR-CALDESC:
X-WR-RELCALID:95920694e9ec53393d68f88c82405c6b
X-WR-TIMEZONE:America/Denver
BEGIN:VTIMEZONE
TZID:America/Denver
BEGIN:STANDARD
TZNAME:MST
DTSTART:20261101T020000
TZOFFSETFROM:-0600
TZOFFSETTO:-0700
RDATE:20271107T020000
END:STANDARD
BEGIN:DAYLIGHT
TZNAME:MDT
DTSTART:20260308T020000
TZOFFSETFROM:-0700
TZOFFSETTO:-0600
RDATE:20270314T020000
RDATE:20280312T020000
END:DAYLIGHT
END:VTIMEZONE
BEGIN:VEVENT
UID:8ece42ae-38d3-4742-ad29-73b9dcfd2885
DTSTAMP:20260423T010638Z
DESCRIPTION:
DTSTART;TZID=America/Denver:20270112T110000
DTEND;TZID=America/Denver:20270112T120000
LOCATION:Board Room
SUMMARY:Native American Talking Circle
END:VEVENT
END:VCALENDAR
