BEGIN:VCALENDAR
VERSION:2.0
PRODID:-//tgpdenver.org//NONSGML kigkonsult.se iCalcreator 2.30.10//
CALSCALE:GREGORIAN
METHOD:PUBLISH
UID:408a9e27-7ead-4c1b-8c0e-64e837c580f6
X-WR-CALDESC:
X-WR-RELCALID:e889ea8aee15edf68126d822c4d9f66e
X-WR-TIMEZONE:America/Denver
BEGIN:VTIMEZONE
TZID:America/Denver
BEGIN:STANDARD
TZNAME:MST
DTSTART:20261101T020000
TZOFFSETFROM:-0600
TZOFFSETTO:-0700
RDATE:20271107T020000
END:STANDARD
BEGIN:DAYLIGHT
TZNAME:MDT
DTSTART:20260308T020000
TZOFFSETFROM:-0700
TZOFFSETTO:-0600
RDATE:20270314T020000
RDATE:20280312T020000
END:DAYLIGHT
END:VTIMEZONE
BEGIN:VEVENT
UID:920899c8-351e-4d06-95f9-f7a7e759a1f1
DTSTAMP:20260423T011222Z
DESCRIPTION:
DTSTART;TZID=America/Denver:20270113T093000
DTEND;TZID=America/Denver:20270113T113000
LOCATION:Art Room
SUMMARY:Watercolor
END:VEVENT
END:VCALENDAR
