BEGIN:VCALENDAR
VERSION:2.0
PRODID:-//tgpdenver.org//NONSGML kigkonsult.se iCalcreator 2.30.10//
CALSCALE:GREGORIAN
METHOD:PUBLISH
UID:550f9519-87bc-41b0-a92b-05b8a77f9407
X-WR-CALDESC:
X-WR-RELCALID:0390e4688cb65b2eea02a7d677ddf109
X-WR-TIMEZONE:America/Denver
BEGIN:VTIMEZONE
TZID:America/Denver
BEGIN:STANDARD
TZNAME:MST
DTSTART:20261101T020000
TZOFFSETFROM:-0600
TZOFFSETTO:-0700
RDATE:20271107T020000
END:STANDARD
BEGIN:DAYLIGHT
TZNAME:MDT
DTSTART:20270314T020000
TZOFFSETFROM:-0700
TZOFFSETTO:-0600
RDATE:20280312T020000
END:DAYLIGHT
END:VTIMEZONE
BEGIN:VEVENT
UID:e11f9b42-8db8-495f-a2ab-ec3bfa2b0421
DTSTAMP:20260423T050025Z
DESCRIPTION:
DTSTART;TZID=America/Denver:20270310T093000
DTEND;TZID=America/Denver:20270310T113000
LOCATION:Art Room
SUMMARY:Watercolor
END:VEVENT
END:VCALENDAR
