BEGIN:VCALENDAR
VERSION:2.0
PRODID:-//tgpdenver.org//NONSGML kigkonsult.se iCalcreator 2.30.10//
CALSCALE:GREGORIAN
METHOD:PUBLISH
UID:a72b6e06-e763-4eee-b63d-792283f66c22
X-WR-CALDESC:Talk with the Spring Institute in the welcome area about healt
 h\, focusing on virus prevention and general wellness to protect yourself 
 and loved ones. 2nd Thursdays\, 11-12
X-WR-RELCALID:2eb04bff1921e795cd9fca9329f34062
X-WR-TIMEZONE:America/Denver
BEGIN:VTIMEZONE
TZID:America/Denver
BEGIN:STANDARD
TZNAME:MST
DTSTART:20261101T020000
TZOFFSETFROM:-0600
TZOFFSETTO:-0700
RDATE:20271107T020000
END:STANDARD
BEGIN:DAYLIGHT
TZNAME:MDT
DTSTART:20270314T020000
TZOFFSETFROM:-0700
TZOFFSETTO:-0600
RDATE:20280312T020000
END:DAYLIGHT
END:VTIMEZONE
BEGIN:VEVENT
UID:7219a119-d94d-404f-bb75-bed88043689c
DTSTAMP:20260423T050609Z
DESCRIPTION:Talk with the Spring Institute in the welcome area about health
 \, focusing on virus prevention and general wellness to protect yourself a
 nd loved ones. 2nd Thursdays\, 11-12
DTSTART;TZID=America/Denver:20270311T110000
DTEND;TZID=America/Denver:20270311T140000
LOCATION:
SUMMARY:Spring Institute Outreach
END:VEVENT
END:VCALENDAR
