BEGIN:VCALENDAR
VERSION:2.0
PRODID:-//tgpdenver.org//NONSGML kigkonsult.se iCalcreator 2.30.10//
CALSCALE:GREGORIAN
METHOD:PUBLISH
UID:6462a485-fdbb-4680-8c4a-a51919cf7784
X-WR-CALDESC:
X-WR-RELCALID:20fef5211e8b87bd304a285306452d11
X-WR-TIMEZONE:America/Denver
BEGIN:VTIMEZONE
TZID:America/Denver
BEGIN:STANDARD
TZNAME:MST
DTSTART:20261101T020000
TZOFFSETFROM:-0600
TZOFFSETTO:-0700
RDATE:20271107T020000
END:STANDARD
BEGIN:DAYLIGHT
TZNAME:MDT
DTSTART:20270314T020000
TZOFFSETFROM:-0700
TZOFFSETTO:-0600
RDATE:20280312T020000
END:DAYLIGHT
END:VTIMEZONE
BEGIN:VEVENT
UID:15f4fd4f-0e8b-446c-a7b9-279e953ef0a9
DTSTAMP:20260423T050341Z
DESCRIPTION:
DTSTART;TZID=America/Denver:20270317T093000
DTEND;TZID=America/Denver:20270317T113000
LOCATION:Art Room
SUMMARY:Watercolor
END:VEVENT
END:VCALENDAR
