BEGIN:VCALENDAR
VERSION:2.0
PRODID:-//tgpdenver.org//NONSGML kigkonsult.se iCalcreator 2.30.10//
CALSCALE:GREGORIAN
METHOD:PUBLISH
UID:4a9de82a-8c4a-4a04-9fe6-4c4f231fc1ed
X-WR-CALDESC:Support with any insurance need or question. Visit the table r
 ight outside of the Wellness Area. Offers a range of services\, like expla
 ining different health insurance options\, applying for cost-saving progra
 ms\, and coordination of current benefits.
X-WR-RELCALID:9d5be62f9c2bc8974e8c2df407bb3e84
X-WR-TIMEZONE:America/Denver
BEGIN:VTIMEZONE
TZID:America/Denver
BEGIN:STANDARD
TZNAME:MST
DTSTART:20261101T020000
TZOFFSETFROM:-0600
TZOFFSETTO:-0700
RDATE:20271107T020000
END:STANDARD
BEGIN:DAYLIGHT
TZNAME:MDT
DTSTART:20270314T020000
TZOFFSETFROM:-0700
TZOFFSETTO:-0600
RDATE:20280312T020000
END:DAYLIGHT
END:VTIMEZONE
BEGIN:VEVENT
UID:1812f3ca-b238-4af1-869f-24477798b43b
DTSTAMP:20260423T050254Z
DESCRIPTION:Support with any insurance need or question. Visit the table ri
 ght outside of the Wellness Area. Offers a range of services\, like explai
 ning different health insurance options\, applying for cost-saving program
 s\, and coordination of current benefits.
DTSTART;TZID=America/Denver:20270317T100000
DTEND;TZID=America/Denver:20270317T120000
LOCATION:Welcome Area\, 1st floor
SUMMARY:Community Insurance Options
END:VEVENT
END:VCALENDAR
