BEGIN:VCALENDAR
VERSION:2.0
PRODID:-//tgpdenver.org//NONSGML kigkonsult.se iCalcreator 2.30.10//
CALSCALE:GREGORIAN
METHOD:PUBLISH
UID:07624b27-1703-41b6-adf2-225b14f33aea
X-WR-CALDESC:Provided by Denver Health staff. Private sexual health tests f
 or Hepatitis C\, chlamydia\, gonorrhea\, syphilis\, and HIV. Free treatmen
 t at Denver Health for those who test positive-- ask for a bus ticket.
X-WR-RELCALID:07bccef655c842ed081c9ab92666411c
X-WR-TIMEZONE:America/Denver
BEGIN:VTIMEZONE
TZID:America/Denver
BEGIN:STANDARD
TZNAME:MST
DTSTART:20261101T020000
TZOFFSETFROM:-0600
TZOFFSETTO:-0700
RDATE:20271107T020000
END:STANDARD
BEGIN:DAYLIGHT
TZNAME:MDT
DTSTART:20270314T020000
TZOFFSETFROM:-0700
TZOFFSETTO:-0600
RDATE:20280312T020000
END:DAYLIGHT
END:VTIMEZONE
BEGIN:VEVENT
UID:e30fc0ca-5ce0-4e6c-a8a5-839697a2ec06
DTSTAMP:20260423T064023Z
DESCRIPTION:Provided by Denver Health staff. Private sexual health tests fo
 r Hepatitis C\, chlamydia\, gonorrhea\, syphilis\, and HIV. Free treatment
  at Denver Health for those who test positive-- ask for a bus ticket.
DTSTART;TZID=America/Denver:20270415T123000
DTEND;TZID=America/Denver:20270415T163000
LOCATION:
SUMMARY:STI/HIV Testing
END:VEVENT
END:VCALENDAR
