BEGIN:VCALENDAR
VERSION:2.0
PRODID:-//tgpdenver.org//NONSGML kigkonsult.se iCalcreator 2.30.10//
CALSCALE:GREGORIAN
METHOD:PUBLISH
UID:abe20e39-971f-4c26-96f3-ac97bde0b4e2
X-WR-CALDESC:
X-WR-RELCALID:7c78fe9c488df31eed6c130fd021057a
X-WR-TIMEZONE:America/Denver
BEGIN:VTIMEZONE
TZID:America/Denver
BEGIN:STANDARD
TZNAME:MST
DTSTART:20261101T020000
TZOFFSETFROM:-0600
TZOFFSETTO:-0700
RDATE:20271107T020000
RDATE:20281105T020000
END:STANDARD
BEGIN:DAYLIGHT
TZNAME:MDT
DTSTART:20270314T020000
TZOFFSETFROM:-0700
TZOFFSETTO:-0600
RDATE:20280312T020000
END:DAYLIGHT
END:VTIMEZONE
BEGIN:VEVENT
UID:d8a19514-cf33-43ad-b793-d3a6d0027424
DTSTAMP:20260423T083203Z
DESCRIPTION:
DTSTART;TZID=America/Denver:20270507T100000
DTEND;TZID=America/Denver:20270507T130000
LOCATION:Art Studio
SUMMARY:STI/HIV Testing
END:VEVENT
END:VCALENDAR
