BEGIN:VCALENDAR
VERSION:2.0
PRODID:-//tgpdenver.org//NONSGML kigkonsult.se iCalcreator 2.30.10//
CALSCALE:GREGORIAN
METHOD:PUBLISH
UID:2ac425f3-7034-4435-b7c9-47320a1977ac
X-WR-CALDESC:Member-led group! Read and discuss poetry. Open to all experie
 nce levels.
X-WR-RELCALID:1c218f825f09e3234884b7b242970514
X-WR-TIMEZONE:America/Denver
BEGIN:VTIMEZONE
TZID:America/Denver
BEGIN:STANDARD
TZNAME:MST
DTSTART:20261101T020000
TZOFFSETFROM:-0600
TZOFFSETTO:-0700
RDATE:20271107T020000
RDATE:20281105T020000
END:STANDARD
BEGIN:DAYLIGHT
TZNAME:MDT
DTSTART:20270314T020000
TZOFFSETFROM:-0700
TZOFFSETTO:-0600
RDATE:20280312T020000
END:DAYLIGHT
END:VTIMEZONE
BEGIN:VEVENT
UID:9116b039-8421-4f03-b0b2-82ec8b7d6129
DTSTAMP:20260423T083826Z
DESCRIPTION:Member-led group! Read and discuss poetry. Open to all experien
 ce levels.
DTSTART;TZID=America/Denver:20270513T110000
DTEND;TZID=America/Denver:20270513T120000
LOCATION:3rd Floor Art Room
SUMMARY:Poetry Salon
END:VEVENT
END:VCALENDAR
