BEGIN:VCALENDAR
VERSION:2.0
PRODID:-//tgpdenver.org//NONSGML kigkonsult.se iCalcreator 2.30.10//
CALSCALE:GREGORIAN
METHOD:PUBLISH
UID:3ca2f271-587c-4537-afba-6981559d1305
X-WR-CALDESC:
X-WR-RELCALID:53d51ece51149e6b36fa6a21258362c7
X-WR-TIMEZONE:America/Denver
BEGIN:VTIMEZONE
TZID:America/Denver
BEGIN:STANDARD
TZNAME:MST
DTSTART:20261101T020000
TZOFFSETFROM:-0600
TZOFFSETTO:-0700
RDATE:20271107T020000
RDATE:20281105T020000
END:STANDARD
BEGIN:DAYLIGHT
TZNAME:MDT
DTSTART:20270314T020000
TZOFFSETFROM:-0700
TZOFFSETTO:-0600
RDATE:20280312T020000
END:DAYLIGHT
END:VTIMEZONE
BEGIN:VEVENT
UID:5d2fa8ee-6869-4004-af77-0cfe7099928f
DTSTAMP:20260423T095749Z
DESCRIPTION:
DTSTART;TZID=America/Denver:20270608T110000
DTEND;TZID=America/Denver:20270608T120000
LOCATION:Board Room
SUMMARY:Native American Talking Circle
END:VEVENT
END:VCALENDAR
