BEGIN:VCALENDAR
VERSION:2.0
PRODID:-//tgpdenver.org//NONSGML kigkonsult.se iCalcreator 2.30.10//
CALSCALE:GREGORIAN
METHOD:PUBLISH
UID:b6c8197a-70ed-4ccb-8742-c3cb0bcf2b5e
X-WR-CALDESC:
X-WR-RELCALID:cf86ec1092b8d998c336de8c6a64f232
X-WR-TIMEZONE:America/Denver
BEGIN:VTIMEZONE
TZID:America/Denver
BEGIN:STANDARD
TZNAME:MST
DTSTART:20261101T020000
TZOFFSETFROM:-0600
TZOFFSETTO:-0700
RDATE:20271107T020000
RDATE:20281105T020000
END:STANDARD
BEGIN:DAYLIGHT
TZNAME:MDT
DTSTART:20270314T020000
TZOFFSETFROM:-0700
TZOFFSETTO:-0600
RDATE:20280312T020000
END:DAYLIGHT
END:VTIMEZONE
BEGIN:VEVENT
UID:c6d2675f-ce4c-4a91-84fb-6c4f0dd5e39c
DTSTAMP:20260423T114004Z
DESCRIPTION:
DTSTART;TZID=America/Denver:20270713T090000
DTEND;TZID=America/Denver:20270713T100000
LOCATION:3rd Floor Art Room
SUMMARY:Nail Salon
END:VEVENT
END:VCALENDAR
