BEGIN:VCALENDAR
VERSION:2.0
PRODID:-//tgpdenver.org//NONSGML kigkonsult.se iCalcreator 2.30.10//
CALSCALE:GREGORIAN
METHOD:PUBLISH
UID:35b5039e-f4bb-41a0-b3e4-9b08a9dc4ba6
X-WR-CALDESC:
X-WR-RELCALID:54ecf79f2cfba1cda07e1584225b28ea
X-WR-TIMEZONE:America/Denver
BEGIN:VTIMEZONE
TZID:America/Denver
BEGIN:STANDARD
TZNAME:MST
DTSTART:20261101T020000
TZOFFSETFROM:-0600
TZOFFSETTO:-0700
RDATE:20271107T020000
RDATE:20281105T020000
END:STANDARD
BEGIN:DAYLIGHT
TZNAME:MDT
DTSTART:20270314T020000
TZOFFSETFROM:-0700
TZOFFSETTO:-0600
RDATE:20280312T020000
END:DAYLIGHT
END:VTIMEZONE
BEGIN:VEVENT
UID:b609db64-63b5-420d-83a4-5679f2cbb139
DTSTAMP:20260423T131930Z
DESCRIPTION:
DTSTART;TZID=America/Denver:20270810T090000
DTEND;TZID=America/Denver:20270810T100000
LOCATION:3rd Floor Art Room
SUMMARY:Nail Salon
END:VEVENT
END:VCALENDAR
