BEGIN:VCALENDAR
VERSION:2.0
PRODID:-//tgpdenver.org//NONSGML kigkonsult.se iCalcreator 2.30.10//
CALSCALE:GREGORIAN
METHOD:PUBLISH
UID:d1bfa276-d602-41f9-8fe7-91e3cfb15cb3
X-WR-CALDESC:Member-led group! Read and discuss poetry. Open to all experie
 nce levels.
X-WR-RELCALID:a77e07068520b87c676ca1f683023345
X-WR-TIMEZONE:America/Denver
BEGIN:VTIMEZONE
TZID:America/Denver
BEGIN:STANDARD
TZNAME:MST
DTSTART:20261101T020000
TZOFFSETFROM:-0600
TZOFFSETTO:-0700
RDATE:20271107T020000
RDATE:20281105T020000
END:STANDARD
BEGIN:DAYLIGHT
TZNAME:MDT
DTSTART:20270314T020000
TZOFFSETFROM:-0700
TZOFFSETTO:-0600
RDATE:20280312T020000
END:DAYLIGHT
END:VTIMEZONE
BEGIN:VEVENT
UID:93f2877b-d9bd-4706-9443-f9dae59db8fc
DTSTAMP:20260423T132143Z
DESCRIPTION:Member-led group! Read and discuss poetry. Open to all experien
 ce levels.
DTSTART;TZID=America/Denver:20270826T110000
DTEND;TZID=America/Denver:20270826T120000
LOCATION:3rd Floor Art Room
SUMMARY:Poetry Salon
END:VEVENT
END:VCALENDAR
