BEGIN:VCALENDAR
VERSION:2.0
PRODID:-//tgpdenver.org//NONSGML kigkonsult.se iCalcreator 2.30.10//
CALSCALE:GREGORIAN
METHOD:PUBLISH
UID:e6c69bd2-4624-4b92-a295-09e9187689dd
X-WR-CALDESC:Learn practical beginner sewing skills to mend clothing and te
 nts\, embroider\, etc. with only a needle and thread.
X-WR-RELCALID:72896ee3cbc41399e20c775e01279ac0
X-WR-TIMEZONE:America/Denver
BEGIN:VTIMEZONE
TZID:America/Denver
BEGIN:STANDARD
TZNAME:MST
DTSTART:20261101T020000
TZOFFSETFROM:-0600
TZOFFSETTO:-0700
RDATE:20271107T020000
RDATE:20281105T020000
END:STANDARD
BEGIN:DAYLIGHT
TZNAME:MDT
DTSTART:20270314T020000
TZOFFSETFROM:-0700
TZOFFSETTO:-0600
RDATE:20280312T020000
RDATE:20290311T020000
END:DAYLIGHT
END:VTIMEZONE
BEGIN:VEVENT
UID:c26fd5ba-a134-4a71-a82f-d93ef2899e1f
DTSTAMP:20260423T150643Z
DESCRIPTION:Learn practical beginner sewing skills to mend clothing and ten
 ts\, embroider\, etc. with only a needle and thread.
DTSTART;TZID=America/Denver:20270916T130000
DTEND;TZID=America/Denver:20270916T140000
LOCATION:TGP Art Room
SUMMARY:Hand Sewing Workshop
END:VEVENT
END:VCALENDAR
