BEGIN:VCALENDAR
VERSION:2.0
PRODID:-//tgpdenver.org//NONSGML kigkonsult.se iCalcreator 2.30.10//
CALSCALE:GREGORIAN
METHOD:PUBLISH
UID:f01f7b0a-0e1b-4b1c-8d4a-6cede2c334ce
X-WR-CALDESC:
X-WR-RELCALID:c057b7bbb1a8337a6217c0d54fe68a39
X-WR-TIMEZONE:America/Denver
BEGIN:VTIMEZONE
TZID:America/Denver
BEGIN:STANDARD
TZNAME:MST
DTSTART:20261101T020000
TZOFFSETFROM:-0600
TZOFFSETTO:-0700
RDATE:20271107T020000
RDATE:20281105T020000
END:STANDARD
BEGIN:DAYLIGHT
TZNAME:MDT
DTSTART:20270314T020000
TZOFFSETFROM:-0700
TZOFFSETTO:-0600
RDATE:20280312T020000
RDATE:20290311T020000
END:DAYLIGHT
END:VTIMEZONE
BEGIN:VEVENT
UID:b1c4ee50-0066-4ce4-b83e-d5ea5b855d49
DTSTAMP:20260423T164205Z
DESCRIPTION:
DTSTART;TZID=America/Denver:20271020T083000
DTEND;TZID=America/Denver:20271020T153000
LOCATION:Wellness Area
SUMMARY:Zip Dentistry
END:VEVENT
END:VCALENDAR
