BEGIN:VCALENDAR
VERSION:2.0
PRODID:-//tgpdenver.org//NONSGML kigkonsult.se iCalcreator 2.30.10//
CALSCALE:GREGORIAN
METHOD:PUBLISH
UID:bc2cad98-d9b6-4a39-aee9-6c4443f67639
X-WR-CALDESC:Knit & crochet in community. Led by Sonja\, a TGP member and v
 olunteer.
X-WR-RELCALID:c4f2208126e28220b0fddd6d5e09e215
X-WR-TIMEZONE:America/Denver
BEGIN:VTIMEZONE
TZID:America/Denver
BEGIN:STANDARD
TZNAME:MST
DTSTART:20261101T020000
TZOFFSETFROM:-0600
TZOFFSETTO:-0700
RDATE:20271107T020000
RDATE:20281105T020000
END:STANDARD
BEGIN:DAYLIGHT
TZNAME:MDT
DTSTART:20270314T020000
TZOFFSETFROM:-0700
TZOFFSETTO:-0600
RDATE:20280312T020000
RDATE:20290311T020000
END:DAYLIGHT
END:VTIMEZONE
BEGIN:VEVENT
UID:09123135-0684-4209-996f-9c7d8a7525e1
DTSTAMP:20260423T164729Z
DESCRIPTION:Knit & crochet in community. Led by Sonja\, a TGP member and vo
 lunteer.
DTSTART;TZID=America/Denver:20271020T130000
DTEND;TZID=America/Denver:20271020T150000
LOCATION:3rd floor art studio
SUMMARY:Stitch circle
END:VEVENT
END:VCALENDAR
